Workbook
Name Payment_Needed: "Pagamento richiesto"
Name Reimbursement: "Rimborso"

Sheet Prima pagina
A1: Comune di Sciolze PROVINCIA DI TO _____________ Piano della Performance anno 2013 - Preventivo

Sheet Schema Generale
A1: FUNZIONE | C1: SERVIZIO | D1: PROCESSO | F1: Settore 1 | G1: Servizio 1 | H1: Settore 2 | I1: Servizio 2 | J1: Settore 3 | K1: Servizio 3
A2: FUNZIONI GENERALI, DI AMMINISTRAZIONE E DI CONTROLLO | C2: SEGRETERIA GENERALE, PERSONALE E ORGANIZZAZIONE | D2: Gestire la Segreteria, il Protocollo, i Servizi informativi, la comunicazione istituzionale e il Personale
B3: 3 | C3: GESTIONE ECONOMICA, FINANZIARIA, PROGRAMMAZIONE E CONTROLLO DI GESTIONE | D3: Gestire la funzione contabile
B4: 4 | C4: GESTIONE DELLE ENTRATE TRIBUTARIE E SERVIZI FISCALI | D4: Gestire le entrate e i tributi locali
C5: UFFICIO TECNICO | D5: Progettare e gestire lavori pubblici e manutenzioni ordinarie e straordinarie
B6: 7 | C6: ANAGRAFE, STATO CIVILE, ELETTORALE, LEVA E SERVIZIO STATISTICO | D6: Gestire i servizi demografici
A7: FUNZIONI DI ISTRUZIONE PUBBLICA | C7: ASSSISTENZA SCOLASTICA, TRASPORTO, REFEZIONE E ALTRI SERVIZI | D7: Gestire il Trasporto Scolastico
D8: Gestire la Refezione Scolastica
A9: FUNZIONI NEL CAMPO TURISTICO | B9: 2 | C9: MANIFESTAZIONI TURISTICHE | D9: Organizzare manifestazioni ed iniziative culturali, sportive e turistiche
A10: FUNZIONI RIGUARDANTI LA GESTIONE DEL TERRITORIO E DELL'AMBIENTE | C10: URBANISTICA E GESTIONE DEL TERRITORIO | D10: Gestire l'Edilizia Privata e il rilascio dei titoli abilitativi
A12: Garantire il supporto agli organi istituzionali e alle aree organizzative dell'Ente attraverso le attività di Segreteria; la gestione e l'archiviazione degli atti in entrata e in uscita e gli adempimenti normativi; gestire la comunicazione istituzionale e le relazioni esterne, gestione del personale.

Sheet processi
A1: N. | B1: ELENCO PROCESSI | C1: AREA ORGANIZZATIVA
A2: 1 | B2: Gestire la Segreteria, il Protocollo, i Servizi informativi, la comunicazione istituzionale e il Personale | C2: AREA SEGRETERIA, PERSONALE, CED
A3: 2 | B3: Gestire la funzione contabile | C3: AREA FINANZIARIA-TRIBUTI
A4: 3 | B4: Gestire le entrate ed i tributi locali | C4: AREA FINANZIARIA-TRIBUTI
A5: 4 | B5: Progettare e gestire lavori pubblici e manutenzioni ordinarie e straordinarie | C5: AREA TECNICA
A6: 5 | B6: Gestire i servizi demografici | C6: AREA SERVIZI ALLA PERSONA
A7: 6 | B7: Gestire il Trasporto Scolastico | C7: AREA FINANZIARIA-TRIBUTI
A8: 7 | B8: Gestire la Refezione Scolastica | C8: AREA FINANZIARIA-TRIBUTI
A9: 8 | B9: Organizzare manifestazioni ed iniziative culturali, sportive e turistiche | C9: AREA SERVIZI ALLA PERSONA
A10: 9 | B10: Gestire l'Edilizia Privata e il rilascio dei titoli abilitativi | C10: AREA TECNICA
A12: Garantire il supporto agli organi istituzionali e alle aree organizzative dell'Ente attraverso le attività di Segreteria; la gestione e l'archiviazione degli atti in entrata e in uscita e gli adempimenti normativi; gestire la comunicazione istituzionale e le relazioni esterne, gestione del personale.

Sheet Caratteristiche
M1: ANNO | N1: 2013
A2: CARATTERISTICHE DELL'ENTE
A3: Popolazione
A4: Descrizione | G4: 2010 | I4: 2011 | K4: 2012 | M4: =N1 -> 2013
A5: Popolazione residente al 31/12 | G5: 1511 | I5: 1529 | K5: 1506
A6: di cui popolazione straniera | G6: 100 | I6: 120 | K6: 121
A8: Descrizione | G8: 2010 | I8: 2011 | K8: 2012 | M8: 2013 | O8: Saldo Naturale 2011
A9: nati nell'anno | G9: 8 | H9: 0 | I9: 10 | J9: 6 | K9: 9 | O9: =M9-M10 -> 0
A10: deceduti nell'anno | G10: 16 | I10: 11 | K10: 13
A11: immigrati | G11: 76 | I11: 86 | K11: 44 | O11: Saldo Migratorio 2011
A12: emigrati | G12: 60 | I12: 56 | K12: 62 | O12: =M11-M12 -> 0
A13: Popolazione per fasce d'età ISTAT | G13: 2010 | I13: 2011 | K13: 2012 | M13: =N1 -> 2013
A14: Popolazione in età prescolare | E14: 0-6 anni | G14: 90 | I14: 90 | K14: 76
A15: Popolazione in età scuola dell'obbligo | E15: 7-14 anni | F15: 7-14 anni | G15: 133 | I15: 144 | K15: 125
A16: Popolazione in forza lavoro | E16: 15-29 anni | F16: 15-29 anni | G16: 177 | I16: 188 | K16: 185
A17: Popolazione in età adulta | E17: 30-65 anni | F17: 30-65 anni | G17: 790 | I17: 784 | K17: 768
A18: Popolazione in età senile | E18: oltre 65 anni | F18: oltre 65 anni | G18: 323 | I18: 334 | K18: 352
A19: Popolazione per fasce d'età Stakeholders | G19: 2010 | I19: 2011 | K19: 2012 | M19: =N1 -> 2013
A20: Prima infanzia | E20: 0-3 anni | G20: 45 | I20: 47 | K20: 39
A21: Utenza scolastica Scuole Sciolze | E21: 3-11 anni | G21: 133 | I21: 144 | K21: 135
A22: Minori | E22: 0-18 anni | G22: 286 | I22: 271 | K22: 269
A23: Giovani | E23: 15-25 anni | G23: 130 | I23: 146 | K23: 151
A25: Popolazione massima insediabile (da strumento urbanistico vigente) | M25: 1663
A27: Territorio
A28: Superficie in Kmq
A29: Frazioni | M29: 0 | N29: =L29/K29 -> #DIV/0!
A30: Risorse idriche
A31: Laghi | M31: 0 | N31: =L31/K31 -> #DIV/0!
A32: Fiumi | D32: Rio Valle Maggiore e Rio Valle Cremera (sul confine) | M32: 2 | N32: =L32/K32 -> #DIV/0!
A34: Viabilità
A35: Strade | G35: =N1-3 -> 2010 | I35: =N1-2 -> 2011 | K35: =N1-1 -> 2012 | M35: =N1 -> 2013
A36: Statali | D36: Km | G36: 0 | I36: 0 | K36: 0
A37: Provinciali | D37: Km | G37: 14 | I37: 14 | K37: 14
A38: Comunali | D38: Km | G38: 19 | I38: 19 | K38: 19
A39: Vicinali | D39: Km | G39: 3 | I39: 3 | K39: 3
A40: Autostrade | D40: Km | G40: 0 | I40: 0 | K40: 0
K41: Totale Km strade | M41: =(M36+M37+M38+M39+M40) -> 0

Sheet Economico Patrimoniale
K1: ANNO | L1: 2013
A2: STRUTTURA - DATI ECONOMICO PATRIMONIALI (a consuntivo)
A3: Gestione delle Entrate
A4: Titoli | E4: 2010 | G4: 2011 | I4: 2012 | K4: 2013
E5: Accertato | F5: Incassato | G5: Accertato | H5: Incassato | I5: Accertato | J5: Incassato | K5: Accertato | L5: Incassato
A6: 1 - Tributarie | E6: 545903.31 | F6: 224191.31 | G6: 891294.89 | H6: 550871.28 | I6: 538161.09 | J6: 407957.68
A7: 2 - Trasferimento Stato | E7: 376587.2 | F7: 376587.2 | G7: 66712.26 | H7: 52911.26 | I7: 32715.96 | J7: 32715.96
A8: 3 - Extratributarie | E8: 144987.44 | F8: 117985.44 | G8: 156388.22 | H8: 138344.59 | I8: 177778.39 | J8: 155557.73
A9: 4 - Alienazioni, trasf., ecc. | E9: 176557.6 | F9: 141557.6 | G9: 96881.35 | H9: 96881.35 | I9: 458751.18 | J9: 89770.42
A10: 5 - Entrate da acc.prestiti | E10: 0 | F10: 0 | G10: 150000 | H10: 0 | I10: 0 | J10: 0
A11: 6 - Servizi conto terzi | E11: 116010.37 | F11: 0 | G11: 129426.91 | H11: 109851.86 | I11: 134073.4 | J11: 126808.49
A12: Garantire il supporto agli organi istituzionali e alle aree organizzative dell'Ente attraverso le attività di Segreteria; la gestione e l'archiviazione degli atti in entrata e in uscita e gli adempimenti normativi; gestire la comunicazione istituzionale e le relazioni esterne, gestione del personale. | E12: 1360045.9 | F12: =SUM(F6:F11) -> 860321.55 | G12: 1490703.6 | H12: 948860.34 | I12: 1341480 | J12: 812810.28
A14: Gestione delle Spese
A15: Titoli | E15: 2010 | G15: 2011 | I15: 2012 | K15: 2013
E16: Impegnato | F16: Pagato | G16: Impegnato | H16: Pagato | I16: Impegnato | J16: Pagato | K16: Impegnato | L16: Pagato
A17: 1 - Spesa corrente | E17: 1042659.1 | F17: 758381.54 | G17: 1041004.5 | H17: 739111.56 | I17: 1029885.8 | J17: 653417.41
A18: 2 - Spese c/capitale | E18: 114032.93 | F18: 57180.13 | G18: 255457.62 | H18: 10418.12 | I18: 502990.41 | J18: 24380.17
A19: 3 - Rimborso di prestiti | E19: 89444.88 | F19: 89444.88 | G19: 91553.3 | H19: 91553.3 | I19: 100101 | J19: 100101
A20: 4 - Servizi conto terzi | E20: 115537.33 | F20: 98834.44 | G20: 129426.91 | H20: 103870.54 | I20: 134073.4 | J20: 114137.24
A21: Totale spesa | E21: 1361674.2 | F21: 1003841 | G21: 1517442.3 | H21: 944953.52 | I21: 1767050.6 | J21: 892035.82
A23: Gestione residui
A24: Titolo | B24: ENTRATE | E24: =$L$1-3 -> 2010 | G24: =$L$1-2 -> 2011 | I24: =$L$1-1 -> 2012 | K24: =$L$1 -> 2013
E25: residui attivi | F25: riscossione | G25: residui attivi | H25: riscossione | I25: residui attivi | J25: riscossione | K25: residui attivi | L25: riscossione
A26: 1 | B26: Tributarie | E26: 527282.96 | F26: 450162.05 | G26: 102959.99 | H26: 32139.18 | I26: 66083.29 | J26: 310264.46
A27: 2 | B27: Contributi e trasferimenti | E27: 33315.25 | F27: 11326.76 | G27: 11686.09 | H27: 8799.29 | I27: 15428.57 | J27: 6304.97
A28: 3 | B28: Extratributarie | E28: 13030.86 | F28: 7709.68 | G28: 28733.32 | H28: 8469.42 | I28: 3493.27 | J28: 33273.59
A29: 4 | B29: Contributi conto capitale | E29: 177080.4 | F29: 158838.8 | G29: 10650 | H29: 42591.6 | I29: 10650 | J29: 0
A30: 5 | B30: Accensioni di prestiti | E30: 18564.79 | F30: 0 | G30: 18564.79 | H30: 0 | I30: 18564.79 | J30: 150000
A31: 6 | B31: Servizi conto terzi | E31: 16174.29 | F31: 10018.79 | G31: 0 | H31: 2000 | I31: 2803.6 | J31: 17306.3
A32: Totale residui su entrate | E32: 785448.55 | F32: 638056.08 | G32: =SUM(G26:G31) -> 172594.19 | H32: =SUM(H26:H31) -> 93999.49 | I32: =SUM(I26:I31) -> 117023.52 | J32: =SUM(J26:J31) -> 517149.32 | K32: =SUM(K26:K31) -> 0 | L32: =SUM(L26:L31) -> 0
A33: Titolo | B33: SPESE | E33: =$L$1-3 -> 2010 | G33: =$L$1-2 -> 2011 | I33: =$L$1-1 -> 2012 | K33: =$L$1 -> 2013
E34: residui attivi | F34: pagamenti | G34: residui attivi | H34: pagamenti | I34: residui passivi | J34: pagamenti | K34: residui passivi | L34: pagamenti
A35: 1 | B35: Spese correnti | E35: 389864.17 | F35: 342280.58 | G35: 33670.76 | H35: 268024.89 | I35: 66083.29 | J35: 310264.46
A36: 2 | B36: Spese per investimenti | E36: 396707.89 | F36: 281757.03 | G36: 59444.79 | H36: 165868.93 | I36: 15428.57 | J36: 6304.97
A37: 3 | B37: Rimborso di prestiti | E37: 0 | F37: 0 | G37: 0 | H37: 91553.3 | I37: 0 | J37: 0
A38: 4 | B38: Servizi conto terzi | E38: 5474.83 | F38: 0 | G38: 1872 | H38: 13221.3 | I38: 4675.61 | J38: 21141.48
A39: Totale residui su spese | E39: =SUM(E35:E38) -> 792046.89 | F39: =SUM(F35:F38) -> 624037.61 | G39: =SUM(G35:G38) -> 94987.55 | H39: =SUM(H35:H38) -> 538668.42 | I39: =SUM(I35:I38) -> 86187.47 | J39: =SUM(J35:J38) -> 337710.91 | K39: =SUM(K35:K38) -> 0 | L39: =SUM(L35:L38) -> 0
A41: Indici per analisi finanziaria (accertamenti)
A42: Descrizione | E42: =$L$1-3 -> 2010 | G42: =$L$1-2 -> 2011 | I42: =$L$1-1 -> 2012 | K42: =$L$1 -> 2013
A43: Trasferimenti dallo Stato (Entrata Tit. 2, categ. 1) | E43: 354038.03 | G43: 31265.47 | I43: 32715.96
...

Sheet Organizzazione
K1: ANNO | L1: 2013
A2: STRUTTURA - ORGANIZZAZIONE
A3: Personale in servizio
A4: Descrizione | E4: =$L$1 - 3 -> 2010 | G4: =$L$1-2 -> 2011 | I4: =$L$1-1 -> 2012 | K4: =$L$1 -> 2013
A5: Segretario Comunale | E5: 1 | G5: 1 | I5: 1
A6: Posizioni Organizzative | E6: 3 | G6: 3 | I6: 3
A7: Dipendenti | E7: 2 | G7: 2 | I7: 2
A8: Totale Personale in servizio | E8: =SUM(E5:F7) -> 6 | G8: =SUM(G5:H7) -> 6 | I8: =SUM(I5:J7) -> 6 | K8: =SUM(K5:L7) -> 0
A10: Età media del personale al 31/12
A11: Descrizione | E11: =$L$1 - 3 -> 2010 | G11: =$L$1-2 -> 2011 | I11: =$L$1-1 -> 2012 | K11: =$L$1 -> 2013
A12: Età media del personale al 31/12 | E12: 43 | G12: 44 | I12: 45 | M12: Diana nata nel 1968 | N12: =K11-1968 -> 45
A13: Posizioni Organizzative | E13: 48.333333 | G13: 49.333333 | I13: 50.333333 | M13: Piero nato nel 1957 | N13: =K11-1957 -> 56
A14: Dipendenti | E14: 47 | G14: 48 | I14: 49 | M14: Teresa nata nel 1961 | N14: =K11-1961 -> 52
A15: Totale Età Media | E15: =SUM((E12+E13*3+E14*2))/6 -> 47 | G15: =SUM((G12+G13*3+G14*2))/6 -> 48 | I15: =SUM((I12+I13*3+I14*2))/6 -> 49 | K15: =SUM((K12+K13*3+K14*2))/6 -> 0 | M15: Carmela nata nel 1970 | N15: =K11-1970 -> 43
M16: Rosetta nata nel 1950 | N16: =K11-1950 -> 63
A17: Indici di assenza (a consuntivo) | M17: Claudia nata nel 1978 | N17: =K11-1978 -> 35
A18: Descrizione | E18: =$L$1 - 3 -> 2010 | G18: =$L$1-2 -> 2011 | I18: =$L$1-1 -> 2012 | K18: =$L$1 -> 2013
A19: Malattia + Ferie + Altro | E19: 0.1 | F19: 0.066666667 | G19: 0.174 | H19: 0 | I19: 0.11672583 | M19: Escluso Segretario | N19: (gg presunti dalle statistiche mensili per trasparenza amministrativa)
A20: Malattia + Altro | E20: 0 | F20: 0.0033333333 | G20: 0.03 | H20: 0 | I20: 0.017016977 | M20: Escluso Segretario
A22: Indici per la spesa del Personale (a consuntivo)
A23: Descrizione | E23: =$L$1 - 3 -> 2010 | G23: =$L$1-2 -> 2011 | I23: =$L$1-1 -> 2012 | K23: =$L$1 -> 2013
A24: Spesa complessiva per il personale | E24: 270596.53 | G24: 266571.86 | I24: 260444.51
A25: Spesa per la formazione (stanziato) | E25: 1140 | G25: 375 | I25: 375
A26: Spesa per la formazione (impegnato) | E26: 890 | G26: 0 | I26: 0
A28: SPESA PER IL PERSONALE
A29: Descrizione | E29: =$L$1-3 -> 2010 | G29: =$L$1-2 -> 2011 | I29: =$L$1-1 -> 2012 | K29: =$L$1 -> 2013
A30: 1. Spesa personale su spesa corrente | E30: 0.26593378 | G30: 0.2556654 | I30: 0.26 | K30: =K24/'Economico Patrimoniale'!I17 -> 0
A31: Spesa complessiva personale
A32: Spese Correnti
A33: 2. Spesa media del personale | E33: 45943.46 | G33: 45099.42 | I33: 44428.64 | K33: =K24/K8 -> #DIV/0!
A34: Spesa complessiva personale
A35: Totale personale in servizio
A36: 3. Spesa personale pro-capite | E36: 183.41 | G36: 179.08 | I36: 174.34 | K36: =K24/Caratteristiche!M5 -> #DIV/0!
A37: Spesa complessiva personale
A38: Popolazione
A39: 4. Rapporto dipendenti su popolazione | E39: 251 | G39: 251.83333 | I39: 255 | K39: =Caratteristiche!M5/K8 -> #DIV/0!
A40: Popolazione
A41: Totale personale in servizio
A42: 5. Rapporto P.O. su dipendenti (compreso Segretario) | E42: 0.5 | G42: 0.5 | I42: 0.5 | K42: =K6/K8 -> #DIV/0!
A43: Numero Posizioni Organizzative
...

Sheet 1_Segreteria
P1: ANNO | Q1: 2013
A2: Obiettivo di processo Misurazione della performance
A4: Area/Settore/Centro d Responsabilità | E4: AFFARI GENERALI
A5: Servizio | E5: SEGRETERIA
A6: Ufficio/Centro di Costo | E6: SEGRETERIA
A8: Processo 1
A9: Gestire la Segreteria, il Protocollo, i Servizi informativi, la comunicazione istituzionale e il Personale
A11: Finalità del Processo
A12: Garantire il supporto agli organi istituzionali e alle aree organizzative dell'Ente attraverso le attività di Segreteria; la gestione e l'archiviazione degli atti in entrata e in uscita e gli adempimenti normativi; gestire la comunicazione istituzionale e le relazioni esterne, gestione del personale.
A17: Missione - Visione dell'Ente
A18: collegamento con le politiche/linee strategiche
A19: Stakeholders
A20: Uffici comunali / Organi istituzionali
A21: Indici
G22: =Q1-3 -> 2010 | H22: 2010 | I22: 2011 | J22: media triennio prec | K22: Atteso 2010 | L22: 2012 | M22: Media triennio prec | N22: Atteso nell'anno | O22: Raggiunto nell'anno | P22: Raggiunto nell'anno /Triennio prec | Q22: Raggiunto nell'anno/ Atteso nell'anno
A23: Indici di Quantità
A24: Popolazione | G24: =Caratteristiche!G5 -> 1511 | H24: 1511 | I24: 1529 | J24: =(G24+H24+I24)/3 -> 1517 | L24: 1506 | M24: =(H24+I24+L24)/3 -> 1515.3333 | N24: 1510
A25: N° totale dipendenti dell'ente | G25: 5 | H25: 5 | I25: 5 | J25: =(G25+H25+I25)/3 -> 5 | L25: 5 | M25: =(H25+I25+L25)/3 -> 5 | N25: 5 | P25: =(O25/M25)-100% -> -1 | Q25: =(O25/N25)-100% -> -1
A26: N° dipendenti addetti al servizio | G26: =0.5+0.4+0.1 -> 1 | H26: 0.88 | I26: 0.93 | J26: =(G26+H26+I26)/3 -> 0.93666667 | L26: 0.94 | M26: =(H26+I26+L26)/3 -> 0.91666667 | N26: 0.94 | P26: =(O26/M26)-100% -> -1 | Q26: =(O26/N26)-100% -> -1
A27: N° ore annue dedicate al servizio (escluso segretario) | G27: ='[1]Ripartizione 2008'!$L$33+'[1]Ripartizione 2008'!$L$36 -> 1029.6 | H27: 1092.7 | I27: 1045.3 | J27: =(G27+H27+I27)/3 -> 1055.8667 | L27: 1045.4185 | M27: =(H27+I27+L27)/3 -> 1061.1395 | N27: 1045 | P27: =(O27/M27)-100% -> -1 | Q27: =(O27/N27)-100% -> -1
A28: N° totale ore lavorate dal personale dell'ente (compreso segretario) | G28: ='[1]Ripartizione 2008'!$O$37 -> 8553.6 | H28: 8163 | I28: 8342.08 | J28: =(G28+H28+I28)/3 -> 8352.8933 | L28: 8368.91 | M28: =(H28+I28+L28)/3 -> 8291.33 | N28: 8368 | P28: =(O28/M28)-100% -> -1 | Q28: =(O28/N28)-100% -> -1
A29: N° atti - documenti informazioni pubblicate sul sito nell'anno | G29: 323 | H29: 491 | I29: 554 | L29: 568 | M29: =(H29+I29+L29)/3 -> 537.66667 | N29: 568 | P29: =(O29/M29)-100% -> -1 | Q29: =(O29/N29)-100% -> -1
A30: N. atti gestiti (delibere/determine/ordinanze/decreti) | G30: =45+31+20+56+51+18+1 -> 222 | H30: 278 | I30: 246 | L30: 245 | M30: =(H30+I30+L30)/3 -> 256.33333 | N30: 245 | P30: =(O30/M30)-100% -> -1 | Q30: =(O30/N30)-100% -> -1
A31: N. atti al protocollo nell'anno (A+P+I+R) | G31: 3592 | H31: 4204 | I31: 4194 | L31: 3974 | M31: =(H31+I31+L31)/3 -> 4124 | N31: 3974 | P31: =(O31/M31)-100% -> -1 | Q31: =(O31/N31)-100% -> -1
A32: Indici di Tempo
A33: Ore di assistenza professionale agli organi e direzione complessiva (Attività diretta del Segretario) | G33: ='[1]Ripartizione 2008'!$L$31/2 -> 316.8 | H33: 225 | I33: 223.045 | J33: =(G33+H33+I33)/3 -> 254.94833 | L33: 207.175 | M33: =(H33+I33+L33)/3 -> 218.40667 | N33: 207 | P33: =(O33/M33)-100% -> -1 | Q33: =(O33/N33)-100% -> -1
A34: tempo medio annuale dedicato alla gestione del personale | G34: =2*52 -> 104 | H34: 104 | I34: 104 | J34: =(G34+H34+I34)/3 -> 104 | L34: 104 | M34: =(H34+I34+L34)/3 -> 104 | N34: 104 | P34: =(O34/M34)-100% -> -1 | Q34: =(O34/N34)-100% -> -1
A35: Tempo medio annuale dedicato alla protocollazione atti | G35: =1.5*250 -> 375 | H35: 375 | I35: 380 | J35: =(G35+H35+I35)/3 -> 376.66667 | L35: 375 | M35: =(H35+I35+L35)/3 -> 376.66667 | N35: 375 | P35: =(O35/M35)-100% -> -1 | Q35: =(O35/N35)-100% -> -1
A36: Tempo medio medio annuale dedicato alla gestione documentale | G36: 250 | H36: 250 | I36: 250 | J36: =(G36+H36+I36)/3 -> 250 | L36: 250 | M36: =(H36+I36+L36)/3 -> 250 | N36: 250 | P36: =(O36/M36)-100% -> -1 | Q36: =(O36/N36)-100% -> -1
A37: Indici di Costo
A38: Costo diretto | G38: =E46 -> 38591.243 | H38: 38591.243 | I38: 40544.101 | J38: 0 | K38: 40544.1 | L38: 34479.645 | M38: =(H38+I38+L38)/3 -> 37871.663 | N38: 34500 | P38: =(O38/M38)-100% -> -1 | Q38: =(O38/N38)-100% -> -1
A39: Indici di Qualità
A40: % gradimento servizio | J40: =(G40+H40+I40)/3 -> 0 | M40: =(G40+H40+I40) -> 0 | P40: =(O40/M40)-100% -> #DIV/0! | Q40: =(O40/N40)-100% -> #DIV/0!
A41: Personale coinvolto nel Processo
A42: Nome e cognome | D42: Categoria | E42: Costo 2010 | F42: Costo 2011 | G42: Costo 2011 | H42: Costo 2012 | I42: Costo 2013 | L42: Posizione - Qualifica | N42: Note
A43: SEGRETARIO COMUNALE | E43: 20929.835 | F43: 26021.299 | G43: 26021.3 | H43: 20060.25 | L43: RESP. DEL SERVIZIO | N43: Gestione del servizio
A44: CLAUDIA LUPOTTI | D44: C2 | E44: 13371.77 | F44: 12463.522 | G44: 12463.52 | H44: 11330.475 | L44: ISTR. AMMINISTRATIVO- CONTABILE | N44: Responsabile del Procedimento
A45: ROSA DEL DUCA | D45: B3 | E45: 4289.638 | F45: 2059.28 | G45: 2059.28 | H45: 3088.92 | L45: COLLABORATORE | N45: Collaborazione nell'archiviazione
A46: COSTO DIRETTO | E46: 38591.243 | F46: 40544.101 | G46: 40544.1 | H46: 34479.645
A48: INDICATORI DI PERFORMANCE | M48: Media trienno precedente | N48: Performance attesa | O48: Performance realizzata | P48: Scost | Q48: ESITO
...

Sheet 2_Contabile
P1: ANNO | Q1: 2013
A2: Obiettivo di processo Misurazione della performance
A4: Area/Settore/Centro d Responsabilità | E4: Area
A5: Servizio | E5: Servizio
A6: Ufficio/Centro di Costo | E6: Ufficio
A8: Processo 2
A9: Gestire la funzione amministrativa-contabile e l'economato
A11: Finalità del Processo
A12: Garantire la regolarità amministrativa e contabile e la tempestività delle procedure di entrata e di spesa con salvaguardia degli equilibri di bilancio finanziario nel rispetto della regolarità contabile amministrativa
A17: Missione - Visione dell'Ente
A18: collegamento con le politiche/linee strategiche
A19: Stakeholders
A20: Amministratori/Funzionari
A21: Indici
G22: =Q1-3 -> 2010 | H22: =Q1-3 -> 2010 | I22: =Q1-2 -> 2011 | J22: media triennio prec | K22: Atteso 2010 | L22: 2012 | M22: Media triennio prec | N22: Atteso nell'anno | O22: Raggiunto nell'anno | P22: Raggiunto nell'anno /Triennio prec | Q22: Raggiunto nell'anno/ Atteso nell'anno
A23: Indici di Quantità
A24: Popolazione | G24: =Caratteristiche!G5 -> 1511 | H24: 1511 | I24: 1529 | J24: =(G24+H24+I24)/3 -> 1517 | L24: 1506 | M24: =(H24+I24+L24)/3 -> 1515.3333 | N24: 1510
A25: N° pratiche evase (visti, pareri contabili, reversali, mandati, pratiche mutui) | G25: =200+476+843 -> 1519 | H25: 1620 | I25: 1519 | J25: =(G25+H25+I25)/3 -> 1552.6667 | L25: 1433 | M25: =(H25+I25+L25)/3 -> 1524 | N25: 1520 | P25: =(O25/M25)-100% -> -1 | Q25: =(O25/N25)-100% -> -1
A26: N° variazioni di interventi e risorse nel bilancio | G26: 41 | H26: 37 | I26: 8 | J26: =(G26+H26+I26)/3 -> 28.666667 | L26: 11 | M26: =(H26+I26+L26)/3 -> 18.666667 | N26: 20 | P26: =(O26/M26)-100% -> -1 | Q26: =(O26/N26)-100% -> -1
A27: N° totale interventi e risorse | G27: 94 | H27: 117 | I27: 169 | J27: =(G27+H27+I27)/3 -> 126.66667 | L27: 145 | M27: =(H27+I27+L27)/3 -> 143.66667 | N27: 140 | P27: =(O27/M27)-100% -> -1 | Q27: =(O27/N27)-100% -> -1
A28: N° dipendenti coinvolti nel servizio | G28: 3 | H28: 3 | I28: 3 | J28: =(G28+H28+I28)/3 -> 3 | L28: 3 | M28: =(H28+I28+L28)/3 -> 3 | N28: 3 | P28: =(O28/M28)-100% -> -1 | Q28: =(O28/N28)-100% -> -1
A30: Indici di Tempo
A31: Tempo medio dell'emissione della reversale d'incasso - dall'acquisizione della nota contabile all'incasso | G31: 10 | H31: 10 | I31: 7 | J31: =(G31+H31+I31)/3 -> 9 | L31: 7 | M31: =(H31+I31+L31)/3 -> 8 | N31: 7 | P31: =(O31/M31)-100% -> -1 | Q31: =(O31/N31)-100% -> -1
A32: Tempo medio dell'emissione del mandato - dall'acquisizione della fattura al mandato di pagamento | G32: 90 | H32: 90 | I32: 60 | J32: =(G32+H32+I32)/3 -> 80 | L32: 90 | M32: =(H32+I32+L32)/3 -> 80 | N32: 75 | P32: =(O32/M32)-100% -> -1 | Q32: =(O32/N32)-100% -> -1
A33: Indici di Costo
A34: Costo diretto | G34: =E42 -> 31010.267 | H34: =E42 -> 31010.267 | I34: =F42 -> 34288.968 | J34: =(G34+H34+I34)/3 -> 32103.167 | L34: =H42 -> 33200.7 | M34: =(H34+I34+L34)/3 -> 32833.312 | N34: =L34 -> 33200.7 | O34: =I42 -> 0 | P34: =(O34/M34)-100% -> -1 | Q34: =(O34/N34)-100% -> -1
A35: Indici di Qualità
A36: % gradimento del servizio (indagine rivolta a colleghi e amministratori) | J36: =(G36+H36+I36)/3 -> 0 | M36: =(G36+H36+I36)/3 -> 0 | P36: =(O36/M36)-100% -> #DIV/0! | Q36: =(O36/N36)-100% -> #DIV/0!
A37: Personale coinvolto nel Processo
A38: Nome e cognome | D38: Categoria | E38: Costo 2010 | F38: Costo 2011 | G38: Costo 2011 | H38: Costo 2012 | I38: Costo 2013 | L38: Posizione - Qualifica | N38: Note
A39: TERESA LAMPIANO | D39: D3 | E39: 26912.837 | F39: 28837.837 | G39: 28837.837 | H39: 28882.616 | L39: RESP. DEL SERVIZIO | N39: Gestione del servizio
A40: CLAUDIA LUPOTTI | D40: C2 | E40: 2507.69 | F40: 2266.095 | G40: 2266.095 | H40: 1133.0475 | L40: ISTR. AMMINISTRATIVO- CONTABILE | N40: Collaborazione nella compilazione delle statistiche di competenza
A41: CARMELA LILLO | D41: D1 | E41: 1589.74 | F41: 3185.036 | G41: 3185.036 | H41: 3185.036 | L41: ECONOMO COMUNALE | N41: Economo comunale
A42: COSTO DIRETTO | E42: 31010.267 | F42: 34288.968 | G42: 34288.968 | H42: 33200.7
A44: INDICATORI DI PERFORMANCE | M44: Media trienno precedente | N44: Performance attesa | O44: Performance realizzata | P44: Scost | Q44: ESITO
A46: Indicatori di Efficacia
A47: % personale su popolazione (n.dipendenti del servizio/popolazione) | M47: =M28/M24 -> 0.0019797624 | N47: =N28/N24 -> 0.001986755 | O47: =O28/O24 -> #DIV/0! | P47: =O47-N47 -> #DIV/0! | Q47: OK
A48: Capacità programmatoria (n. variazioni di bilancio/tot. Interventi e risorse) | M48: =M26/M27 -> 0.12993039 | N48: =N26/N27 -> 0.14285714 | O48: =O26/O27 -> #DIV/0! | P48: =O48-N48 -> #DIV/0! | Q48: OK
A50: Indicatori di Efficacia temporale
A51: Tempo medio dell'emissione della reversale d'incasso - dall'acquisizione della nota contabile all'incasso | M51: =M31 -> 8 | N51: =N31 -> 7 | O51: =O31 -> 0 | P51: =O51-N51 -> -7 | Q51: =IF(O51<=N51,"OK","NOOK") -> OK
...

Sheet 3_Entrate
P1: ANNO | Q1: 2013
A2: Obiettivo di processo Misurazione della performance
A4: Area/Settore/Centro d Responsabilità | E4: Area
A5: Servizio | E5: Servizio
A6: Ufficio/Centro di Costo | E6: Ufficio
A8: Processo 3
A9: Gestire le entrate ed i tributi locali
A11: Finalità del Processo
A12: Attività di riscossione delle entrate per assicurare la continuità dei servizi, la flessibilità delle competenze e una maggiore assistenza ai cittadini
A17: Missione - Visione dell'Ente
A18: collegamento con le politiche/linee strategiche
A19: Stakeholders
A20: Amministratori-contribuenti
A21: Indici
G22: =Q1-3 -> 2010 | H22: =Q1-3 -> 2010 | I22: =Q1-2 -> 2011 | J22: =S1-3 -> -3 | K22: =S1-2 -> -2 | L22: =Q1-1 -> 2012 | M22: Media triennio prec | N22: Atteso nell'anno | O22: Raggiunto nell'anno | P22: Raggiunto nell'anno /Triennio prec | Q22: Raggiunto nell'anno/ Atteso nell'anno
A23: Indici di Quantità
A24: Popolazione | G24: =Caratteristiche!G5 -> 1511 | H24: 1511 | I24: 1529 | J24: 1506 | K24: 1506 | L24: 1506 | M24: =(H24+I24+L24)/3 -> 1515.3333 | N24: 1510
A25: N. contribuenti ICI e TARSU | G25: =1474+683 -> 2157 | H25: 2181.6667 | I25: 2238 | K25: 2238 | L25: 2388 | M25: =(H25+I25+L25)/3 -> 2269.2222 | N25: =L25 -> 2388 | P25: =(O25/M25)-100% -> -1 | Q25: =(O25/N25)-100% -> -1
A26: N. dipendenti del servizio | G26: 3 | H26: 3 | I26: 3 | K26: 3 | L26: 3 | M26: =(H26+I26+L26)/3 -> 3 | N26: 3 | P26: =(O26/M26) -> 0 | Q26: =(O26/N26) -> 0
A27: € entrate tributarie ed extratributarie (Tit. I e III dell'Entrata) | G27: =549657.35+150605.19 -> 700262.54 | H27: 691980.16 | I27: 691409.78 | K27: 691409.78 | L27: 1137548.7 | M27: =(H27+I27+L27)/3 -> 840312.88 | N27: =838076.72+196098.14 -> 1034174.9 | P27: =(O27/M27)-100% -> -1 | Q27: =(O27/N27)-100% -> -1
A28: (dal 2011 dall'importo del Tit. I sono sottratti compartecipazione IVA e Fondo Sviluppo)
A29: Totale ore lavoro | G29: ='[1]Ripartizione 2008'!$I$37 -> 1029.6 | H29: 970.66667 | I29: 870.7 | K29: 870.7 | L29: 1042.0035 | M29: =(H29+I29+L29)/3 -> 961.12339 | N29: 1042 | P29: =(O29/M29)-100% -> -1 | Q29: =(O29/N29)-100% -> -1
A30: Totale recupero evasione ICI | G30: 23214.99 | H30: 16114.597 | I30: 6460 | K30: 6460 | L30: 0 | M30: =(H30+I30+L30)/3 -> 7524.8656 | N30: 0 | P30: =(O30/M30)-100% -> -1 | Q30: 0
A31: Totale Entrate ICI (fino al 2011) - IMU (dal 2012) | G31: 172000 | H31: 177333.33 | I31: 178240.11 | K31: 178240.11 | L31: 379937.3 | M31: =(H31+I31+L31)/3 -> 245170.25 | N31: 361271.58 | P31: =(O31/M31)-100% -> -1 | Q31: =(O31/N31)-100% -> -1
A32: Totale recupero evasione TARSU | G32: 0 | H32: 0 | I32: 0 | K32: 0 | L32: 1304 | M32: =(H32+I32+L32)/3 -> 434.66667 | N32: 0 | P32: =(O32/M32)-100% -> -1 | Q32: =(O32/N32)-100% -> #DIV/0!
A33: Totale Entrate TARSU (fino al 2012) - TARES (dal 2013) | G33: 192000 | H33: 225566.67 | I33: 233000 | K33: 233000 | L33: 233000 | M33: =(H33+I33+L33)/3 -> 230522.22 | N33: 280000 | P33: =(O33/M33)-100% -> -1 | Q33: =(O33/N33)-100% -> -1
A35: Indici di Tempo
A36: Tempo medio tra accertamento ed incasso (gg) | G36: 60 | H36: 60 | I36: 60 | J36: =(G36+H36+I36)/3 -> 60 | L36: 60 | M36: =(H36+I36+L36)/3 -> 60 | N36: 60 | P36: =(O36/M36)-100% -> -1 | Q36: =(O36/N36)-100% -> -1
A37: Indici di Costo
A38: Costo diretto | G38: =E50 -> 18436.91 | H38: 18436.91 | I38: 14110.303 | J38: =SUM(J35:J37) -> 60 | K38: 16382.796 | L38: 16382.796 | M38: =(H38+I38+L38)/3 -> 16310.003 | N38: =L38 -> 16382.796 | P38: =(O38/M38)-100% -> -1 | Q38: =(O38/N38)-100% -> -1
A39: Indici di Qualità
A40: N. rettifiche effettuate | G40: 0 | H40: 0 | I40: 0 | J40: =(G40+H40+I40)/3 -> 0 | L40: 0 | M40: =(H40+I40+L40)/3 -> 0 | N40: 0 | P40: 0 | Q40: 0
A41: N. avvisi di accertamento | G41: 48 | H41: 44 | I41: 7 | L41: 8 | M41: =(H41+I41+L41)/3 -> 19.666667 | N41: 0 | P41: =(O41/M41)-100% -> -1 | Q41: =(O41/N41)-100% -> #DIV/0!
A42: N. ricorsi accolti per l'ente | G42: 0 | H42: 0 | I42: 0 | J42: =(G42+H42+I42)/3 -> 0 | L42: 0 | M42: =(H42+I42+L42)/3 -> 0 | N42: 0 | P42: 0 | Q42: 0
A43: Totali ricorsi gestiti | G43: 0 | H43: 0 | I43: 1 | J43: =(G43+H43+I43)/3 -> 0.33333333 | L43: 1 | M43: =(H43+I43+L43)/3 -> 0.66666667 | N43: 0 | P43: =(O43/M43)-100% -> -1 | Q43: =(O43/N43)-100% -> #DIV/0!
A45: Personale coinvolto nel Processo
A46: Nome e cognome | D46: Categoria | E46: Costo 2010 | F46: Costo 2011 | G46: Costo 2011 | H46: Costo 2012 | I46: Costo 2013 | L46: Posizione - Qualifica | N46: Note
A47: TERESA LAMPIANO | D47: D3 | E47: 3844.69 | F47: 4119.691 | G47: ='[1]Ripartizione 2010'!$I$21 -> 3844.691 | H47: 4126.088 | L47: RESP. DEL SERVIZIO | N47: Gestione del servizio
A48: CLAUDIA LUPOTTI | D48: C2 | E48: 12447.4 | F48: 7931.3325 | G48: ='[1]Ripartizione 2010'!$I$22+'[1]Ripartizione 2010'!$I$24 -> 12447.4 | H48: 10197.427 | L48: ISTR. AMMINISTRATIVO- CONTABILE | N48: Responsabile del Procedimento
A49: ROSA DEL DUCA | D49: B3 | E49: 2144.82 | F49: 2059.28 | G49: ='[1]Ripartizione 2010'!$I$19 -> 2144.819 | H49: 2059.28 | L49: COLLABORATORE
...

Sheet 4_Lavori Pubblici e Manut
O1: ANNO | P1: 2013
A2: Obiettivo di processo Misurazione della performance
A4: Area/Settore/Centro d Responsabilità | E4: TECNICA
A5: Servizio | E5: LL.PP.
A6: Ufficio/Centro di Costo | E6: LL.PP.
A8: Processo 4
A9: Progettare e gestire lavori pubblici e manutenzioni ordinarie e straordinarie
A11: Finalità del Processo
A12: Assicurare la manutenzione sul patrimonio comunale - Completare gli interventi in corso di esecuzione ed attivare i nuovi interventi previsti
A17: Missione - Visione dell'Ente
A18: collegamento con le politiche/linee strategiche
A19: Stakeholders
A20: Cittadini
A21: Indici
G22: =P1-3 -> 2010 | H22: =P1-2 -> 2011 | I22: =P1-1 -> 2012 | J22: media triennio prec | K22: Atteso 2010 | L22: media triennio prec | M22: Atteso nell'anno | N22: Raggiunto nell'anno | O22: Raggiunto nell'anno /Triennio prec | P22: Raggiunto nell'anno/ Atteso nell'anno
A23: Indici di Quantità
A24: Popolazione | G24: 1511 | H24: 1529 | I24: 1506 | J24: =(G24+H24+I24)/3 -> 1515.3333 | L24: =(G24+H24+I24)/3 -> 1515.3333 | M24: 1510
A25: N. manutenzioni straordinarie e nuove opere effettuate | G25: 12 | H25: 15 | I25: 9 | J25: =(G25+H25+I25)/3 -> 12 | L25: =(G25+H25+I25)/3 -> 12 | M25: 4 | O25: =(N25/L25)-100% -> -1 | P25: =(N25/M25)-100% -> -1
A26: N. manutenzioni straordinarie e nuove opere programmate | G26: 10 | H26: 10 | I26: 10 | J26: =(G26+H26+I26)/3 -> 10 | L26: =(G26+H26+I26)/3 -> 10 | M26: 5 | O26: =(N26/L26)-100% -> -1 | P26: =(N26/M26)-100% -> -1
A27: € destinati a manutenzioni ordinarie | G27: 79730 | H27: 81257.27 | I27: 111807 | J27: =(G27+H27+I27)/3 -> 90931.423 | L27: =(G27+H27+I27)/3 -> 90931.423 | M27: =10000+11730+5000+8000 -> 34730 | O27: =(N27/L27)-100% -> -1 | P27: =(N27/M27)-100% -> -1
A28: € destinati a manutenzione straordinaria e nuove opere | G28: 181000 | H28: 223802 | I28: 225000 | J28: =(G28+H28+I28)/3 -> 209934 | L28: =(G28+H28+I28)/3 -> 209934 | M28: =37000+15000+20000 -> 72000 | O28: =(N28/L28)-100% -> -1 | P28: =(N28/M28)-100% -> -1
A29: n. manutenzioni ordinarie realizzate | G29: 145 | H29: 145 | I29: 148 | J29: =(G29+H29+I29)/3 -> 146 | L29: =(G29+H29+I29)/3 -> 146 | M29: 148 | O29: =(N29/L29)-100% -> -1 | P29: =(N29/M29)-100% -> -1
A30: N. manutenzioni ordinarie programmate | G30: 145 | H30: 145 | I30: 148 | J30: =(G30+H30+I30)/3 -> 146 | L30: =(G30+H30+I30)/3 -> 146 | M30: 148 | O30: =(N30/L30)-100% -> -1 | P30: =(N30/M30)-100% -> -1
A32: Indici di Tempo
A33: Ore annue destinate ad interventi sul territorio | G33: 1405 | H33: 1400 | I33: 1405 | L33: =(G33+H33+I33)/3 -> 1403.3333 | M33: 1400 | O33: =(N33/L33)-100% -> -1 | P33: =(N33/M33)-100% -> -1
A34: N. interventi settimanali effettuati sul territorio | G34: 2.5 | H34: 2.5 | I34: 2 | L34: =(G34+H34+I34)/3 -> 2.3333333 | M34: 2 | O34: =(N34/L34)-100% -> -1 | P34: =(N34/M34)-100% -> -1
A35: Indici di Costo
A36: Costo diretto | G36: 21424.478 | H36: 20788.91 | I36: 20788.908 | L36: =(G36+H36+I36)/3 -> 21000.765 | M36: =I36 -> 20788.908 | O36: =(N36/L36)-100% -> -1 | P36: =(N36/M36)-100% -> -1
A37: spesa sostenuta per manutenzioni ordinarie (consuntivo) | G37: 76517.71 | H37: 59610.27 | I37: 22801.45 | L37: =(G37+H37+I37)/3 -> 52976.477 | M37: =10000+11730+5000+8000 -> 34730 | O37: =(N37/L37)-100% -> -1 | P37: =(N37/M37)-100% -> -1
A38: spesa sostenuta per manutenzioni straordinarie e nuove opere (consuntivo) | G38: 200118 | H38: 2292.5 | I38: 6754.12 | L38: =(G38+H38+I38)/3 -> 69721.54 | M38: =37000+15000+20000 -> 72000 | O38: =(N38/L38)-100% -> -1 | P38: =(N38/M38)-100% -> -1
A39: Indici di Qualità
A40: % gradimento dei servizi (indagine) | J40: =(G40+H40+I40)/3 -> 0 | L40: =(G40+H40+I40) -> 0 | O40: =(N40/L40)-100% -> #DIV/0! | P40: =(N40/M40)-100% -> #DIV/0!
A42: Personale coinvolto nel Processo
A43: Nome e cognome | D43: Categoria | E43: Costo 2010 | F43: Costo 2011 | G43: Costo 2012 | H43: Costo 2013 | I43: Posizione - Qualifica | M43: Note
A44: PIETRO VAI | D44: D3 | E44: 17134.84 | F44: 16670.348 | G44: 16670.348 | I44: RESP. DEL SERVIZIO | M44: Gestione del servizio
A45: ROSA DEL DUCA | D45: B3 | E45: 4289.638 | F45: 4118.56 | G45: 4118.56 | I45: COLLABORATORE | M45: Servizio di pulizia immobili comunali
A46: COSTO DIRETTO | E46: 21424.478 | F46: 20788.908 | G46: 20788.908
A48: INDICATORI DI PERFORMANCE | L48: Media trienno precedente | M48: Performance attesa | N48: Performance realizzata | O48: Scost | P48: ESITO
A50: Indicatori di Efficacia
A51: Capacità programmatoria (manutenzioni straordinarie e nuove opere effettuate/manutenzioni straordinarie e nuove opere programmate) | L51: =L25/L26 -> 1.2 | M51: =M25/M26 -> 0.8 | N51: =N25/N26 -> #DIV/0! | O51: =N51-M51 -> #DIV/0! | P51: =IF(N51>=M51,"OK","NOOK") -> #DIV/0!
...

Sheet 5_Demografici
O1: ANNO | P1: 2013
A2: Obiettivo di processo Misurazione della performance
A4: Area/Settore/Centro d Responsabilità | E4: Area
A5: Servizio | E5: Servizio
A6: Ufficio/Centro di Costo | E6: Ufficio
A8: Processo 5
A9: Gestire i servizi demografici
A11: Finalità del Processo
A12: Gestire la funzione dell'anagrafe, dello stato civile, dell'elettorale e della leva, rivolti alla semplificazione e alla tempestività dei procedimenti
A17: Missione - Visione dell'Ente
A18: collegamento con le politiche/linee strategiche
A19: Stakeholders
A20: Cittadini
A21: Indici
G22: =P1-3 -> 2010 | H22: =P1-2 -> 2011 | I22: =P1-1 -> 2012 | J22: media triennio prec | K22: Atteso 2010 | L22: media triennio prec | M22: Atteso nell'anno | N22: Raggiunto nell'anno | O22: Raggiunto nell'anno /Triennio prec | P22: Raggiunto nell'anno/ Atteso nell'anno
A23: Indici di Quantità
A24: Popolazione | G24: 1511 | H24: 1529 | I24: 1506 | J24: =(G24+H24+I24)/3 -> 1515.3333 | L24: =(G24+H24+I24)/3 -> 1515.3333 | M24: 1510
A25: Ore apertura annue | G25: 936 | H25: 936 | I25: 936 | J25: =(G25+H25+I25)/3 -> 936 | L25: =(G25+H25+I25)/3 -> 936 | M25: 912 | O25: =(N25/L25)-100% -> -1 | P25: =(N25/M25)-100% -> -1
A26: N° Dipendenti del servizio | G26: 1 | H26: 1 | I26: 1 | J26: =(G26+H26+I26)/3 -> 1 | L26: =(G26+H26+I26)/3 -> 1 | M26: 1 | O26: =(N26/L26)-100% -> -1 | P26: =(N26/M26)-100% -> -1
A27: N° pratiche (iscrizioni-cancellazioni anagrafe/elettorale; atti stato civile, rilascio certificati, rilascio C.I.) | G27: 1220 | H27: 1256 | I27: 1200 | J27: =(G27+H27+I27)/3 -> 1225.3333 | L27: =(G27+H27+I27)/3 -> 1225.3333 | M27: 1300 | O27: =(N27/L27)-100% -> -1 | P27: =(N27/M27)-100% -> -1
A28: N° certificati | G28: 710 | H28: 534 | I28: 530 | J28: =(G28+H28+I28)/3 -> 591.33333 | L28: =(G28+H28+I28)/3 -> 591.33333 | M28: 570 | O28: =(N28/L28)-100% -> -1 | P28: =(N28/M28)-100% -> -1
A29: (N.B. Programma SISCOM da luglio 2008)
A31: Ore annue dedicate a back office | G31: 319.5 | H31: 181.6 | I31: 315 | L31: =(G31+H31+I31)/3 -> 272.03333 | M31: 300 | O31: =(N31/L31)-100% -> -1 | P31: =(N31/M31)-100% -> -1
A32: Indici di Tempo
A33: Tempo medio annuo delicato a gestione pratiche (esclusi rilascio certificati e C.I.) | G33: 200 | H33: 200 | I33: 190 | J33: =(G33+H33+I33)/3 -> 196.66667 | L33: =(G33+H33+I33)/3 -> 196.66667 | M33: 200 | O33: =(N33/L33)-100% -> -1 | P33: =(N33/M33)-100% -> -1
A34: Indici di Costo
A35: Costo diretto | G35: 15897.4 | H35: 15829.064 | I35: =G47 -> 12740.144 | J35: =(G35+H35+I35)/3 -> 14822.203 | L35: =(G35+H35+I35)/3 -> 14822.203 | M35: =I35 -> 12740.144 | O35: =(N35/L35)-100% -> -1 | P35: =(N35/M35)-100% -> -1
A36: Indici di Qualità
A37: % gradimento servizio (indagine) | J37: =(G37+H37+I37)/3 -> 0 | L37: =(G37+H37+I37)/3 -> 0 | O37: =(N37/L37)-100% -> #DIV/0! | P37: =(N37/M37)-100% -> #DIV/0!
A38: Valutazione del servizio da parte degli operatori (indagine) | J38: =(G38+H38+I38)/3 -> 0 | L38: =(G38+H38+I38)/3 -> 0 | O38: =(N38/L38)-100% -> #DIV/0! | P38: =(N38/M38)-100% -> #DIV/0!
A40: Personale coinvolto nel Processo
A41: Nome e cognome | D41: Categoria | E41: Costo 2010 | F41: Costo 2011 | G41: Costo 2012 | H41: Costo 2013 | I41: Posizione - Qualifica | M41: Note
A42: CARMELA LILLO | D42: D1 | E42: 15897.4 | F42: 12740.144 | G42: 12740.144 | I42: RESP. DEL SERVIZIO
A43: DEL DUCA ROSA | D43: B3 | E43: 0 | F43: 3088.92 | M43: Nel 2009 elezioni amministrative;
A44: PIETRO VAI (PERIODO ELETTORALE) | D44: D3 | E44: 0 | F44: 0 | M44: Nel 2009 elezioni amministrative;
A45: TERESA LAMPIANO (PERIODO ELETTORALE) | D45: D3 | E45: 0 | F45: 0 | M45: Nel 2009 elezioni amministrative;
A46: CLAUDIA LUPOTTI (PERIODO ELETTORALE E CENSIMENTO) | D46: C2 | E46: 0 | F46: 0 | M46: Nel 2009 elezioni amministrative;
A47: COSTO DIRETTO | E47: 15897.4 | F47: 15829.064 | G47: 12740.144
A49: INDICATORI DI PERFORMANCE | L49: Media trienno precedente | M49: Performance attesa | N49: Performance realizzata | O49: Scost | P49: ESITO
A51: Indicatori di Efficacia
...

Sheet 6_Trasporto scol
O1: ANNO | P1: 2013
A2: Obiettivo di processo Misurazione della performance
A4: Area/Settore/Centro d Responsabilità | E4: Area
A5: Servizio | E5: Servizio
A6: Ufficio/Centro di Costo | E6: Ufficio
A8: Processo 6
A9: Gestire il Trasporto Scolastico
A11: Finalità del Processo
A12: Garantire l'erogazione (e/o il controllo) del servizio di trasporto scolastico secondo criteri di professionalità e di qualità
A17: Missione - Visione dell'Ente
A18: collegamento con le politiche/linee strategiche
A19: Stakeholders
A20: Famiglie con bimbi in età scolare
A21: Indici
G22: =P1-3 -> 2010 | H22: =P1-2 -> 2011 | I22: =P1-1 -> 2012 | J22: media triennio prec | K22: Atteso 2010 | L22: media triennio prec | M22: Atteso nell'anno | N22: Raggiunto nell'anno | O22: Raggiunto nell'anno /Triennio prec | P22: Raggiunto nell'anno/ Atteso nell'anno
A23: Indici di Quantità
A24: Popolazione | G24: 1511 | H24: 1529 | I24: 1506 | J24: =(G24+H24+I24)/3 -> 1515.3333 | L24: =(G24+H24+I24)/3 -> 1515.3333 | M24: 1510
A25: N° bambini in età scolare | G25: 144 | H25: 144 | I25: 125 | J25: =(G25+H25+I25)/3 -> 137.66667 | L25: =(G25+H25+I25)/3 -> 137.66667 | M25: 120 | O25: =(N25/L25)-100% -> -1 | P25: =(N25/M25)-100% -> -1
A26: N° domande accolte | G26: 25 | H26: 27 | I26: 34 | J26: =(G26+H26+I26)/3 -> 28.666667 | L26: =(G26+H26+I26)/3 -> 28.666667 | M26: 35 | O26: =(N26/L26)-100% -> -1 | P26: =(N26/M26)-100% -> -1
A27: N° domande presentate | G27: 25 | H27: 27 | I27: 34 | J27: =(G27+H27+I27)/3 -> 28.666667 | L27: =(G27+H27+I27)/3 -> 28.666667 | M27: 35 | O27: =(N27/L27)-100% -> -1 | P27: =(N27/M27)-100% -> -1
A28: N° Utenti | G28: 25 | H28: 27 | I28: 34 | J28: =(G28+H28+I28)/3 -> 28.666667 | L28: =(G28+H28+I28)/3 -> 28.666667 | M28: 35 | O28: =(N28/L28)-100% -> -1 | P28: =(N28/M28)-100% -> -1
A29: N° Morosi | G29: 0 | H29: 0 | I29: 0 | J29: =(G29+H29+I29)/3 -> 0 | L29: =(G29+H29+I29)/3 -> 0 | M29: 0 | O29: 0 | P29: 0
A30: N° km percorsi | G30: 20000 | H30: 20000 | I30: 20000 | J30: =(G30+H30+I30)/3 -> 20000 | L30: =(G30+H30+I30)/3 -> 20000 | M30: 20000 | O30: =(N30/L30)-100% -> -1 | P30: =(N30/M30)-100% -> -1
A32: Indici di Tempo
A33: N° ore impiegate per il servizio | G33: 3 | H33: 3 | I33: 3 | J33: =(G33+H33+I33)/3 -> 3 | L33: =(G33+H33+I33)/3 -> 3 | O33: =(N33/L33)-100% -> -1 | P33: =(N33/M33)-100% -> #DIV/0!
A34: Indici di Costo/ Provento
A35: Costo del processo (Costo del personale, costo dell'appalto, contributo Marentino) | G35: 37700.941 | H35: 32603.68 | I35: 30300 | J35: =(G35+H35+I35)/3 -> 33534.874 | L35: =(G35+H35+I35)/3 -> 33534.874 | M35: 28300 | O35: =(N35/L35)-100% -> -1 | P35: =(N35/M35)-100% -> -1
A36: Contributo della Regione/Provincia | G36: 4324.53 | H36: 4000 | I36: 3500 | J36: =(G36+H36+I36)/3 -> 3941.51 | L36: =(G36+H36+I36)/3 -> 3941.51 | M36: 1500 | O36: =(N36/L36)-100% -> -1 | P36: =(N36/M36)-100% -> -1
A37: Contribuzione degli utenti | G37: 9480.5 | H37: 10943 | I37: 12264 | J37: =(G37+H37+I37)/3 -> 10895.833 | L37: =(G37+H37+I37)/3 -> 10895.833 | M37: 14000 | O37: =(N37/L37)-100% -> -1 | P37: =(N37/M37)-100% -> -1
A38: € incassati su morosità | G38: 0 | H38: 0 | I38: 0 | J38: =(G38+H38+I38)/3 -> 0 | L38: =(G38+H38+I38)/3 -> 0 | M38: 0 | O38: 0 | P38: 0
A39: € morosità accertate | G39: 0 | H39: 0 | I39: 0 | J39: =(G39+H39+I39)/3 -> 0 | L39: =(G39+H39+I39)/3 -> 0 | M39: 0 | O39: 0 | P39: 0
A40: Indici di Qualità
A41: % gradimento servizio (indagine) | J41: =(G41+H41+I41)/3 -> 0 | L41: =(G41+H41+I41)/3 -> 0 | O41: =(N41/L41)-100% -> #DIV/0! | P41: =(N41/M41)-100% -> #DIV/0!
A42: Valutazione del servizio da parte degli operatori (indagine) | J42: =(G42+H42+I42)/3 -> 0 | L42: =(G42+H42+I42)/3 -> 0 | O42: =(N42/L42)-100% -> #DIV/0! | P42: =(N42/M42)-100% -> #DIV/0!
A44: Personale coinvolto nel Processo
A45: Nome e cognome | D45: Categoria | E45: Costo 2010 | F45: Costo 2011 | G45: Costo 2012 | H45: Costo 2013 | I45: Posizione - Qualifica | M45: Note
A46: TERESA LAMPIANO | D46: D3 | E46: 3844.691 | F46: 3295.7528 | G46: 4126.088 | I46: RESP. DEL SERVIZIO | M46: Gestione e controllo servizio
A47: CARMELA LILLO | D47: D1 | E47: 3179.48 | F47: 3185.036 | G47: 3185.036 | M47: Incasso rate scuolabus
A48: CONTRATTO DI SOMMINISTRAZIONE | E48: 8477 | M48: Autista scuolabus
A49: COSTO DIRETTO | E49: 15501.171 | F49: 6480.7888 | G49: 7311.124
...

Sheet 7_Refezione
O1: ANNO | P1: 2013
A2: Obiettivo di processo Misurazione della performance
A4: Area/Settore/Centro d Responsabilità | E4: Area
A5: Servizio | E5: Servizio
A6: Ufficio/Centro di Costo | E6: Ufficio
A8: Processo 7
A9: Gestire la Refezione Scolastica
A11: Finalità del Processo
A12: Garantire l'erogazione (e/o il controllo) dei servizi di refezione scolastica secondo criteri di qualità e professionalità
A17: Missione - Visione dell'Ente
A18: collegamento con le politiche/linee strategiche
A19: Stakeholders
A20: Studenti, famiglie ed insegnanti
A21: Indici
G22: =P1-3 -> 2010 | H22: =P1-2 -> 2011 | I22: =P1-1 -> 2012 | J22: media triennio prec | K22: Atteso 2010 | L22: Media triennio prec | M22: Atteso nell'anno | N22: Raggiunto nell'anno | O22: Raggiunto nell'anno /Triennio prec | P22: Raggiunto nell'anno/ Atteso nell'anno
A23: Indici di Quantità
A24: Popolazione | G24: 1511 | H24: 1529 | I24: 1506 | J24: =(G24+H24+I24)/3 -> 1515.3333 | L24: =(G24+H24+I24)/3 -> 1515.3333 | M24: 1510 | O24: =N24/L24 -> 0 | P24: =N24/M24 -> 0
A25: N° alunni | G25: 144 | H25: 115 | I25: 125 | J25: =(G25+H25+I25)/3 -> 128 | L25: =(G25+H25+I25)/3 -> 128 | M25: =74+40 -> 114 | O25: =N25/L25 -> 0 | P25: =N25/M25 -> 0
A26: N° Utenti | G26: 97 | H26: 114 | I26: 111 | J26: =(G26+H26+I26)/3 -> 107.33333 | L26: =(G26+H26+I26)/3 -> 107.33333 | M26: 111 | O26: =(N26/L26)-100% -> -1 | P26: =(N26/M26)-100% -> -1
A27: N° pasti | G27: 10263 | H27: 11485 | I27: 12357 | J27: =(G27+H27+I27)/3 -> 11368.333 | L27: =(G27+H27+I27)/3 -> 11368.333 | M27: 12400 | O27: =(N27/L27)-100% -> -1 | P27: =(N27/M27)-100% -> -1
A28: N°. morosi | G28: 0 | H28: 0 | I28: 0 | J28: =(G28+H28+I28)/3 -> 0 | L28: =(G28+H28+I28)/3 -> 0 | M28: 0 | O28: 0 | P28: 0
A30: Indici di Tempo
A32: Indici di Costo / Provento
A33: Costo del processo (costo del personale e costo dell'appalto) | G33: 68758.628 | H33: 68782.567 | I33: 71488.964 | J33: =(G33+H33+I33)/3 -> 69676.72 | L33: =(G33+H33+I33)/3 -> 69676.72 | M33: =I33 -> 71488.964 | O33: =(N33/L33)-100% -> -1 | P33: =(N33/M33)-100% -> -1
A34: Proventi di competenza | G34: 44626.64 | H34: 52351.76 | I34: 68472 | J34: =(G34+H34+I34)/3 -> 55150.133 | L34: =(G34+H34+I34)/3 -> 55150.133 | M34: 65000 | O34: =(N34/L34)-100% -> -1 | P34: =(N34/M34)-100% -> -1
A35: spesa di competenza del servizio Tit. I | G35: 55000 | H35: 55000 | I35: 58000 | J35: =(G35+H35+I35)/3 -> 56000 | L35: =(G35+H35+I35)/3 -> 56000 | M35: 75000 | O35: =(N35/L35)-100% -> -1 | P35: =(N35/M35)-100% -> -1
A36: € incassati su morosità | G36: 0 | H36: 0 | I36: 0 | J36: =(G36+H36+I36)/3 -> 0 | L36: =(G36+H36+I36)/3 -> 0 | M36: 0 | O36: 0 | P36: 0
A37: € morosità accertate | G37: 0 | H37: 0 | I37: 0 | J37: =(G37+H37+I37)/3 -> 0 | L37: =(G37+H37+I37)/3 -> 0 | M37: 0 | O37: 0 | P37: 0
A38: Indici di Qualità
A39: % gradimento servizio (indagine) | J39: =(G39+H39+I39)/3 -> 0 | L39: =(G39+H39+I39)/3 -> 0 | O39: =(N39/L39)-100% -> #DIV/0! | P39: =(N39/M39)-100% -> #DIV/0!
A40: N° reclami | J40: =(G40+H40+I40)/3 -> 0 | L40: =(G40+H40+I40)/3 -> 0 | N40: 0 | O40: =(N40/L40)-100% -> #DIV/0! | P40: =(N40/M40)-100% -> #DIV/0!
A42: Personale coinvolto nel Processo
A43: Nome e cognome | D43: Categoria | E43: Costo 2010 | F43: Costo 2011 | G43: Costo 2012 | H43: Costo 2013 | I43: Posizione - Qualifica | M43: Note
A44: TERESA LAMPIANO | D44: D3 | E44: 3844.691 | F44: 4119.691 | G44: 4126.088 | I44: RESP. DEL SERVIZIO | M44: Gestione e controllo servizio
A45: CARMELA LILLO | D45: D1 | E45: 3179.48 | F45: 3185.036 | G45: 3185.036 | M45: Incasso proventi buoni mensa
A46: DEL DUCA ROSA | D46: B3 | E46: 6734.457 | F46: 6477.84 | G46: 6177.84 | M46: Responsabile del Procedimento
A47: COSTO DIRETTO | E47: 13758.628 | F47: 13782.567 | G47: 13488.964
A49: INDICATORI DI PERFORMANCE | L49: Media trienno precedente | M49: Performance attesa | N49: Performance realizzata | O49: Scost | P49: ESITO
A51: Indicatori di Efficacia
A52: % di utilizzo del servizio (utenti/alunni) | L52: =L26/L25 -> 0.83854167 | M52: =M26/M25 -> 0.97368421 | N52: =N26/N25 -> #DIV/0! | O52: =N52-M52 -> #DIV/0! | P52: =IF(N52>=M52,"OK","NOOK") -> #DIV/0!
...

Sheet 8_Manifestazioni
O1: ANNO | P1: 2013
A2: Obiettivo di processo Misurazione della performance
A4: Area/Settore/Centro d Responsabilità | E4: Area
A5: Servizio | E5: Servizio
A6: Ufficio/Centro di Costo | E6: Ufficio
A8: Processo 8
A9: Organizzare manifestazioni ed iniziative culturali, sportive e turistiche
A11: Finalità del Processo
A12: Organizzare i servizi e le iniziative culturali promosse sul territorio sia dal Comune direttamente, sia dalle associazioni e dai cittadini. Valorizzare gli impianti sportivi esistenti sul territorio e garantirne l'utilizzo da parte della cittadinanza secondo modalità gestionali atte a favorire il contenimento dei costi per l'amministrazione. Collaborare con le associazioni culturali, sportive e ricreative del territorio attraversio la concessione di contributi e patrocini. Organizzare i servizi e le iniziative ricreative promosse sul territorio sia dal Comune direttamente sia dalle associazioni e dai cittadini. Promuovere la conoscenza del terrritorio e sostenere l'offerta turistica.
A17: Missione - Visione dell'Ente
A18: collegamento con le politiche/linee strategiche
A19: Stakeholders
A20: Cittadini/Associazioni/operatori turistici/Società sportive
A21: Indici
G22: =P1-3 -> 2010 | H22: =P1-2 -> 2011 | I22: =P1-1 -> 2012 | J22: media triennio prec | K22: Atteso 2010 | L22: Media triennio prec | M22: Atteso nell'anno | N22: Raggiunto nell'anno | O22: Raggiunto nell'anno /Triennio prec | P22: Raggiunto nell'anno/ Atteso nell'anno
A23: Indici di Quantità
A24: Popolazione | G24: 1511 | H24: 1529 | I24: 1506 | J24: =(G24+H24+I24)/3 -> 1515.3333 | L24: =(G24+H24+I24)/3 -> 1515.3333 | M24: 1510
A25: N. iniziative-manifestazioni | G25: 7 | H25: 9 | I25: 8 | J25: =(G25+H25+I25)/3 -> 8 | L25: =(G25+H25+I25)/3 -> 8 | M25: 6 | O25: =(N25/L25)-100% -> -1 | P25: =(N25/M25)-100% -> -1
A26: N. iniziative culturali | G26: 3 | H26: 5 | I26: 3 | J26: =(G26+H26+I26)/3 -> 3.6666667 | L26: =(G26+H26+I26)/3 -> 3.6666667 | M26: 2 | O26: =(N26/L26)-100% -> -1 | P26: =(N26/M26)-100% -> -1
A27: N. domande contributi presentate | G27: 9 | H27: 10 | I27: 7 | J27: =(G27+H27+I27)/3 -> 8.6666667 | L27: =(G27+H27+I27)/3 -> 8.6666667 | M27: 5 | O27: =(N27/L27)-100% -> -1 | P27: =(N27/M27)-100% -> -1
A28: N. domande contributi accolte | G28: 9 | H28: 9 | I28: 1 | L28: =(G28+H28+I28)/3 -> 6.3333333 | M28: 2 | O28: =(N28/L28)-100% -> -1 | P28: =(N28/M28)-100% -> -1
A29: N. domande patrocini presentate | G29: 5 | H29: 7 | I29: 6 | L29: =(G29+H29+I29)/3 -> 6 | M29: 4 | O29: =(N29/L29)-100% -> -1 | P29: =(N29/M29)-100% -> -1
A30: N. domande patrocini accolte | G30: 4 | H30: 5 | I30: 5 | L30: =(G30+H30+I30)/3 -> 4.6666667 | M30: 4 | O30: =(N30/L30)-100% -> -1 | P30: =(N30/M30)-100% -> -1
A31: N. medio partecipanti | G31: 400 | H31: 500 | I31: 400 | L31: =(G31+H31+I31)/3 -> 433.33333 | M31: 400 | O31: =(N31/L31)-100% -> -1 | P31: =(N31/M31)-100% -> -1
A33: Indici di Tempo
A34: Tempo medio erogazione patrocini | G34: 15 | H34: 15 | I34: 15 | J34: =(G34+H34+I34)/3 -> 15 | L34: =(G34+H34+I34)/3 -> 15 | M34: 15 | O34: =(N34/L34)-100% -> -1 | P34: =(N34/M34)-100% -> -1
A35: Indici di Costo / Provento
A36: € Contributi erogati | G36: 13000 | H36: 16400 | I36: 4000 | J36: =(G36+H36+I36)/3 -> 11133.333 | L36: =(G36+H36+I36)/3 -> 11133.333 | M36: 1500 | O36: =(N36/L36)-100% -> -1 | P36: =(N36/M36)-100% -> -1
A37: Contributi da Regione ed altri enti | G37: 1911.45 | H37: 0 | I37: 821 | J37: =(G37+H37+I37)/3 -> 910.81667 | L37: =(G37+H37+I37)/3 -> 910.81667 | M37: 1000 | O37: =(N37/L37)-100% -> -1 | P37: =(N37/M37)-100% -> -1
A38: Costo complessivo delle iniziative promosse dall'ente | G38: 27455.18 | H38: 14967 | I38: 5983 | J38: =(G38+H38+I38)/3 -> 16135.06 | L38: =(G38+H38+I38)/3 -> 16135.06 | M38: 2000 | O38: =(N38/L38)-100% -> -1 | P38: =(N38/M38)-100% -> -1
A39: Costo diretto | G39: 12238.338 | H39: 12644.028 | I39: 12644.028 | J39: =(G39+H39+I39)/3 -> 12508.798 | L39: =(G39+H39+I39)/3 -> 12508.798 | M39: 9000 | O39: =(N39/L39)-100% -> -1 | P39: =(N39/M39)-100% -> -1
A41: Personale coinvolto nel Processo
A42: Nome e cognome | D42: Categoria | E42: Costo 2010 | F42: Costo 2011 | G42: Costo 2012 | H42: Costo 2013 | I42: Posizione - Qualifica | M42: Note
A43: CARMELA LILLO | D43: D1 | E43: 7948.7 | F43: 9555.108 | G43: 9555.108 | I43: RESP. DEL SERVIZIO
A44: DEL DUCA ROSA | D44: B3 | E44: 4289.638 | F44: 3088.92 | G44: 3088.92
A45: COSTO DIRETTO | E45: 12238.338 | F45: 12644.028 | G45: 12644.028
A47: INDICATORI DI PERFORMANCE | L47: Media trienno precedente | M47: Performance attesa | N47: Performance realizzata | O47: Scost | P47: ESITO
A49: Indicatori di Efficacia
A50: % soddisfazione delle richieste di contributo (domande accolte/ domande presentate) | L50: =L28/L27 -> 0.73076923 | M50: =M28/M27 -> 0.4 | N50: =N28/N27 -> #DIV/0! | O50: =N50-M50 -> #DIV/0! | P50: ok
A51: % soddisfazione delle richieste di patrocinio (domande accolte/ domande presentate) | L51: =L30/L29 -> 0.77777778 | M51: =M30/M29 -> 1 | N51: =N30/N29 -> #DIV/0! | O51: =N51-M51 -> #DIV/0! | P51: =IF(N51>=M51,"OK","NOOK") -> #DIV/0!
...

Sheet 9_Edilizia
O1: ANNO | P1: 2013
A2: Obiettivo di processo Misurazione della performance
A4: Area/Settore/Centro d Responsabilità | E4: Area
A5: Servizio | E5: Servizio
A6: Ufficio/Centro di Costo | E6: Ufficio
A8: Processo 9
A9: Gestire l'Edilizia Privata e il rilascio dei titoli abilitativi
A11: Finalità del Processo
A12: Garantire il rispetto delle norme in materia di edilizia e del rilascio dei titoli abilitativi
A17: Missione - Visione dell'Ente
A18: collegamento con le politiche/linee strategiche
A19: Stakeholders
A20: Cittadini richiedenti/ Progettisti / Imprese edili / Amministratori
A21: Indici
G22: =P1-3 -> 2010 | H22: =P1-2 -> 2011 | I22: =P1-1 -> 2012 | J22: media triennio prec | K22: Atteso 2010 | L22: Media triennio prec | M22: Atteso nell'anno | N22: Raggiunto nell'anno | O22: Raggiunto nell'anno /Triennio prec | P22: Raggiunto nell'anno/ Atteso nell'anno
A23: Indici di Quantità
A24: Popolazione | G24: 1529 | H24: 1506 | I24: 1506 | J24: =(G24+H24+I24)/3 -> 1513.6667 | L24: =(G24+H24+I24)/3 -> 1513.6667 | M24: 1510
A25: h apertura settimanale | G25: 5 | H25: 5 | I25: 5 | J25: =(G25+H25+I25)/3 -> 5 | L25: =(G25+H25+I25)/3 -> 5 | M25: 5 | O25: =(N25/L25)-100% -> -1 | P25: =(N25/M25)-100% -> -1
A26: N. domande presentate | G26: 62 | H26: 85 | I26: 67 | J26: =(G26+H26+I26)/3 -> 71.333333 | L26: =(G26+H26+I26)/3 -> 71.333333 | M26: 65 | O26: =(N26/L26)-100% -> -1 | P26: =(N26/M26)-100% -> -1
A27: N. domande accolte | G27: 62 | H27: 83 | I27: 67 | J27: =(G27+H27+I27)/3 -> 70.666667 | L27: =(G27+H27+I27)/3 -> 70.666667 | M27: 65 | O27: =(N27/L27)-100% -> -1 | P27: =(N27/M27)-100% -> -1
A28: n. richieste integrazioni | G28: 15 | H28: 46 | I28: 33 | J28: =(G28+H28+I28)/3 -> 31.333333 | L28: =(G28+H28+I28)/3 -> 31.333333 | M28: 35 | O28: =(N28/L28)-100% -> -1 | P28: =(N28/M28)-100% -> -1
A29: N° richieste accesso atti evase | G29: 18 | H29: 21 | I29: 32 | J29: =(G29+H29+I29)/3 -> 23.666667 | L29: =(G29+H29+I29)/3 -> 23.666667 | M29: 30 | O29: =(N29/L29)-100% -> -1 | P29: =(N29/M29)-100% -> -1
A30: N° richieste accesso atti ricevute | G30: 18 | H30: 21 | I30: 32 | J30: =(G30+H30+I30)/3 -> 23.666667 | L30: =(G30+H30+I30)/3 -> 23.666667 | M30: 30 | O30: =(N30/L30)-100% -> -1 | P30: =(N30/M30)-100% -> -1
A31: n. controlli DIA -SCIA -CIA | G31: 0 | H31: 16 | I31: 59 | J31: =(G31+H31+I31)/3 -> 25 | L31: =(G31+H31+I31)/3 -> 25 | M31: 65 | O31: 1 | P31: =(N31/M31)-100% -> -1
A32: n. DIA -SCIA -CIA presentate | G32: 56 | H32: 78 | I32: 59 | J32: =(G32+H32+I32)/3 -> 64.333333 | L32: =(G32+H32+I32)/3 -> 64.333333 | M32: 65 | O32: =(N32/L32)-100% -> -1 | P32: =(N32/M32)-100% -> -1
A33: N° titoli abilitativi rilasciati | G33: 7 | H33: 7 | I33: 8 | J33: =(G33+H33+I33)/3 -> 7.3333333 | L33: =(G33+H33+I33)/3 -> 7.3333333 | M33: 7 | O33: =(N33/L33)-100% -> -1 | P33: =(N33/M33)-100% -> -1
A34: Indici di Costo/ Provento
A35: Oneri urbanizzazione | G35: 93525.15 | H35: 54270 | I35: 37617 | J35: =(G35+H35+I35)/3 -> 61804.05 | L35: =(G35+H35+I35)/3 -> 61804.05 | M35: 71000 | O35: =(N35/L35)-100% -> -1 | P35: =(N35/M35)-100% -> -1
A36: Costo del processo | G36: 24967.2 | H36: 25005.522 | I36: 25005.522 | L36: =(G36+H36+I36)/3 -> 24992.748 | M36: =I36 -> 25005.522 | O36: =(N36/L36)-100% -> -1 | P36: =(N36/M36)-100% -> -1
A37: Personale coinvolto nel Processo
A38: Nome e cognome | D38: Categoria | E38: Costo 2010 | F38: Costo 2011 | G38: Costo 2012 | H38: Costo 2013 | I38: Posizione - Qualifica | M38: Note
A39: PIETRO VAI | D39: D3 | E39: 24967.2 | F39: 25005.522 | G39: 25005.522 | I39: RESP. DEL SERVIZIO | M39: Gestione del servizio
A40: COSTO DIRETTO | E40: 24967.2 | F40: 25005.522 | G40: 25005.522
A43: INDICATORI DI PERFORMANCE | L43: Media trienno precedente | M43: Performance attesa | N43: Performance realizzata | O43: Scost | P43: ESITO
A45: Indicatori di Efficacia
A46: Tasso di accessibilità (h. apertura settimanale/36 h) | L46: =L25/36 -> 0.13888889 | M46: =M25/36 -> 0.13888889 | N46: =N25/36 -> 0 | O46: =N46-M46 -> -0.13888889 | P46: =IF(N46>=M46,"OK","NOOK") -> NOOK
A47: % soddisfazione delle richieste (domande accolte/domande presentate) | L47: =L27/L26 -> 0.99065421 | M47: =M27/M26 -> 1 | N47: =N27/N26 -> #DIV/0! | O47: =N47-M47 -> #DIV/0! | P47: =IF(N47<=M47,"OK","NOOK") -> #DIV/0!
A48: Tasso di integrazione degli atti (N. richieste integrazioni/N. domande presentate) | L48: =L28/L26 -> 0.43925234 | M48: =M28/M26 -> 0.53846154 | N48: =N28/N26 -> #DIV/0! | O48: =N48-M48 -> #DIV/0! | P48: =IF(N48<=M48,"OK","NOOK") -> #DIV/0!
A49: Tasso di accessibilità agli atti (N° richieste accesso atti evase/ricevute) | L49: =L29/L30 -> 1 | M49: =M29/M30 -> 1 | N49: =N29/N30 -> #DIV/0! | O49: =N49-M49 -> #DIV/0! | P49: =IF(N49>=M49,"OK","NOOK") -> #DIV/0!
A50: Grado di controllo DIA- SCIA - CIA (n. controlli DIA -SCIA -CIA /n. DIA -SCIA -CIA presentate) | L50: =L31/L32 -> 0.38860104 | M50: =M31/M32 -> 1 | N50: =N31/N32 -> #DIV/0! | O50: =N50-M50 -> #DIV/0! | P50: =IF(N50>=M50,"OK","NOOK") -> #DIV/0!
...

Sheet Foglio1
